BEGIN:VCALENDAR
VERSION:2.0
PRODID:-//QCGC - ECPv6.15.20//NONSGML v1.0//EN
CALSCALE:GREGORIAN
METHOD:PUBLISH
X-ORIGINAL-URL:https://qcgc.com.au
X-WR-CALDESC:Events for QCGC
REFRESH-INTERVAL;VALUE=DURATION:PT1H
X-Robots-Tag:noindex
X-PUBLISHED-TTL:PT1H
BEGIN:VTIMEZONE
TZID:UTC
BEGIN:STANDARD
TZOFFSETFROM:+0000
TZOFFSETTO:+0000
TZNAME:UTC
DTSTART:20250101T000000
END:STANDARD
END:VTIMEZONE
BEGIN:VEVENT
DTSTART;TZID=UTC:20261123T120000
DTEND;TZID=UTC:20261123T170000
DTSTAMP:20260421T093959
CREATED:20260119T193448Z
LAST-MODIFIED:20260119T193448Z
UID:5339-1795435200-1795453200@qcgc.com.au
SUMMARY:Chemist Shield - Lakelands GC
DESCRIPTION:For information\, or to make a booking – click here \nWith thanks to our sponsors…
URL:https://qcgc.com.au/event/chemist-shield-lakelands-gc-2/
LOCATION:Lakelands Golf Club\, 100 Lakelands Drive\, Merrimac\, Qld\, 4226\, Australia
ATTACH;FMTTYPE=image/jpeg:https://qcgc.com.au/wp-content/uploads/2023/05/Lakelands-logo.jpg
END:VEVENT
END:VCALENDAR